BEGIN:VCALENDAR
VERSION:2.0
PRODID:-//Gabrielli editori | Verona - ECPv6.15.20//NONSGML v1.0//EN
CALSCALE:GREGORIAN
METHOD:PUBLISH
X-WR-CALNAME:Gabrielli editori | Verona
X-ORIGINAL-URL:https://www.gabriellieditori.it
X-WR-CALDESC:Eventi per Gabrielli editori | Verona
REFRESH-INTERVAL;VALUE=DURATION:PT1H
X-Robots-Tag:noindex
X-PUBLISHED-TTL:PT1H
BEGIN:VTIMEZONE
TZID:Europe/Rome
BEGIN:DAYLIGHT
TZOFFSETFROM:+0100
TZOFFSETTO:+0200
TZNAME:CEST
DTSTART:20150329T010000
END:DAYLIGHT
BEGIN:STANDARD
TZOFFSETFROM:+0200
TZOFFSETTO:+0100
TZNAME:CET
DTSTART:20151025T010000
END:STANDARD
BEGIN:DAYLIGHT
TZOFFSETFROM:+0100
TZOFFSETTO:+0200
TZNAME:CEST
DTSTART:20160327T010000
END:DAYLIGHT
BEGIN:STANDARD
TZOFFSETFROM:+0200
TZOFFSETTO:+0100
TZNAME:CET
DTSTART:20161030T010000
END:STANDARD
BEGIN:DAYLIGHT
TZOFFSETFROM:+0100
TZOFFSETTO:+0200
TZNAME:CEST
DTSTART:20170326T010000
END:DAYLIGHT
BEGIN:STANDARD
TZOFFSETFROM:+0200
TZOFFSETTO:+0100
TZNAME:CET
DTSTART:20171029T010000
END:STANDARD
BEGIN:DAYLIGHT
TZOFFSETFROM:+0100
TZOFFSETTO:+0200
TZNAME:CEST
DTSTART:20180325T010000
END:DAYLIGHT
BEGIN:STANDARD
TZOFFSETFROM:+0200
TZOFFSETTO:+0100
TZNAME:CET
DTSTART:20181028T010000
END:STANDARD
END:VTIMEZONE
BEGIN:VEVENT
DTSTART;TZID=Europe/Rome:20170408T204500
DTEND;TZID=Europe/Rome:20170408T220000
DTSTAMP:20260421T021412
CREATED:20170310T090909Z
LAST-MODIFIED:20170404T081548Z
UID:12831-1491684300-1491688800@www.gabriellieditori.it
SUMMARY:Vittorino Andreoli - "Omeni\, done e buteleti" a Soave
DESCRIPTION:Nell’ambito del Festival letterario  “Soave Città del Libro e della Cultura” dal 6 al 9 aprile 2017\npromosso dall’Ass. “Le Botteghe di Soave” \nincontro con\nVITTORINO ANDREOLI\ne il suo libro\nOMENI\, DONE E BUTELETI\ncon gli attori Clara Sartori e Graziano Poletto del Teatroprova di San Bonifacio \nVittorino Andreoli presenta il suo libro\, ventisei racconti\, l’unico scritto interamente in dialetto veronese con cui l’Autore vuole rendere omaggio alla sua terra\, alla sua cultura e soprattutto alla sua lingua. “Omeni\, done e buteleti” è un libro scrigno\, ricchissimo di memorie legate alla tradizione contadina\, un imponente corpus narrativo: “Mi sono accorto – scrive Andreoli nella sua introduzione – che le mie meditazioni sono costruite nella lingua dei miei nonni\, dei nonni dei miei nonni… Il dialetto veronese è lo strumento della mia comprensione quotidiana… è il vocabolario della mia storia”. LEGGI L’ANTEPRIMA DEL LIBRO \nInfo sul Festival: https://www.facebook.com/LeBottegheDiSoave/
URL:https://www.gabriellieditori.it/event/vittorino-andreoli-omeni-done-e-buteleti-a-soave/
LOCATION:Piazza Mercato dei Grani\, 1\, Piazza Mercato dei Grani\, 1\, Soave\, 37038\, Italia
CATEGORIES:Incontri
END:VEVENT
BEGIN:VEVENT
DTSTART;TZID=Europe/Rome:20170330T203000
DTEND;TZID=Europe/Rome:20170330T220000
DTSTAMP:20260421T021412
CREATED:20170323T105956Z
LAST-MODIFIED:20170323T110447Z
UID:12849-1490905800-1490911200@www.gabriellieditori.it
SUMMARY:Leopoldina Naudet - Verso la beatificazione
DESCRIPTION:Sorelle della Sacra Famiglia \nVerso la beatificazione – 29 aprile 2017 \nLEOPOLDINA NAUDET\nLa storia\, la spiritualità\nConversazione con Gianpietro De Paoli\, stimmatino \nLetture di Simonetta Giacon \nIn collaborazione con Libreria Paoline (Verona)
URL:https://www.gabriellieditori.it/event/leopoldina-naudet-verso-la-beatificazione/
LOCATION:Sala Paoline\, Lungadige Panvinio\, 9\, Verona\, 37121\, Italia
ATTACH;FMTTYPE=image/jpeg:https://www.gabriellieditori.it/wp-content/uploads/2017/03/leopoldina_PAOLINE-30.3.2017-002-e1490266951723.jpg
END:VEVENT
BEGIN:VEVENT
DTSTART;TZID=Europe/Rome:20170320T204500
DTEND;TZID=Europe/Rome:20170320T223000
DTSTAMP:20260421T021412
CREATED:20170228T113455Z
LAST-MODIFIED:20170313T094647Z
UID:12818-1490042700-1490049000@www.gabriellieditori.it
SUMMARY:OLTRE LE RELIGIONI\, con MARCELO BARROS
DESCRIPTION:Nell’ambito del ciclo SPIRITUALITA’ TRA LE RIGHE \nIncontro-dibattito sul tema \nOLTRE LE RELIGIONI\nUna nuova epoca per la spiritualità umana\na partire dal LIBRO di John Shelby Spong\, Maria Lopez Vigil\, Roger Lenaers\, José Maria Vigil\, con prefazione di Marcelo Barros\, a cura di Claudia Fanti (Adista) e Ferdinando Sudati\, Gabrielli editori. \n“Le religioni così come le conosciamo sono destinate a lasciare spazio a qualcosa di nuovo e non ancora facilmente prevedibile\, ma che sicuramente apre all’insopprimibile dimensione spirituale dell’essere umano un futuro ricco di straordinarie possibilità.” \n  \nIntervengono:\np. Marcelo Barros\, benedettino brasiliano\, eco- teologo della liberazione\, biblista e scrittore\ndon Ferdinando Sudati\, teologo e presbitero diocesano\, curatore di saggi teologici innovativi presso vari editori italiani \nModera: Marco Dal Corso\, docente al Liceo Maffei di Verona e all’Istituto Studi Ecumenici di Venezia\, autore di vari testi. \nSede: sala convegni del CUM (Centro Unitario per la Cooperazione Missionaria frale Chiese)\, Via Bacilieri\, 1/A Verona    
URL:https://www.gabriellieditori.it/event/oltre-le-religioni-con-marcelo-barros/
LOCATION:Fondazione CUM\, Via Bacilieri\, 1/A\, Verona\, 37139\, Italia
CATEGORIES:Incontri
END:VEVENT
BEGIN:VEVENT
DTSTART;TZID=Europe/Rome:20170315T180000
DTEND;TZID=Europe/Rome:20170315T190000
DTSTAMP:20260421T021412
CREATED:20170224T145647Z
LAST-MODIFIED:20170224T145647Z
UID:12812-1489600800-1489604400@www.gabriellieditori.it
SUMMARY:L'amore che non è\, il nuovo libro di Gianpaolo Trevisi
DESCRIPTION:Presentazione del nuovo libro di \nGianpaolo Trevisi\nL’AMORE CHE NON È\nCi saranno giorni nuovi\, di mille colori diversi\n \nla Feltrinelli Libri e Musica\nVia IV Spade\, 2 – Verona \n  \nIntervengono: \nGIANPAOLO TREVISI\, Direttore della Scuola di Polizia di Peschiera del Garda \nALESSANDRA VACCARI\, giornalista de L’Arena \nCon la partecipazione di: \nELVIRA VITULLI\, Pubblico Ministero\, Procura di Verona \nANTONIA DE VITA\, Docente dell’Università di Verona \nLetture di: Grazia Baldani Guerra e M. Grazia Cotroneo \nIntermezzi musicali con chitarra e voce \n 
URL:https://www.gabriellieditori.it/event/lamore-che-non-e-il-nuovo-libro-di-gianpaolo-trevisi/
LOCATION:laFeltrinelli Libri e Musica\, Via IV Spade\, 2\, Verona\, 37121\, Italia
CATEGORIES:Incontri
END:VEVENT
BEGIN:VEVENT
DTSTART;TZID=Europe/Rome:20170308T173000
DTEND;TZID=Europe/Rome:20170308T190000
DTSTAMP:20260421T021412
CREATED:20170220T104859Z
LAST-MODIFIED:20170220T110555Z
UID:12780-1488994200-1488999600@www.gabriellieditori.it
SUMMARY:TESTIMONI DELLA FEDE\, presentazione in Gregoriana
DESCRIPTION:PONTIFICIA UNIVERSITA’ GREGORIANA \npresentazione del volume\n“TESTIMONI DELLA FEDE. Esperienze personali e collettive dei cattolici in Europa centro-orientale sotto il regime comunista”\na cura di Jan Mikrut\, per la collana: Storia della Chiesa in Europa centro-orientale \nProgramma:\nSaluto del Magnifico Rettore della Pontificia Università Gregoriana\, P. Nuno da Silva Gonçalves S.J. \nIntervengono:\nS. Eminenza il Cardinale Angelo Amato SDB\, Prefetto della Congregazione delle Cause dei Santi\nS. Eccellenza Mons. Tomo Vukšić\, Vescovo militare in Bosnia ed Erzegovina\nProf. Jan Mikrut\, Pontificia Università Gregoriana \nPartecipazione musicale del: Coro della Chiesa di San Girolamo dei Croati di Roma \nModera: P. Marek Inglot S.J.\, Decano della Facoltà di Storia e Beni Culturali della Chiesa \nPer informazioni: Segreteria della Facoltà di Storia e Beni Culturali della Chiesa Tel. 06 6701.5107 • E-mail: storiaebeni@unigre.it • www.unigre.it/eventi • Piazza della Pilotta\, 4 – 00187 Roma
URL:https://www.gabriellieditori.it/event/testimoni-della-fede-presentazione-in-gregoriana/
LOCATION:Pontificia Università Gregoriana\, Piazza della Pilotta\, 4\, Roma\, 00187\, Italia
CATEGORIES:Incontri
ATTACH;FMTTYPE=image/png:https://www.gabriellieditori.it/wp-content/uploads/2017/02/Schermata-2017-02-20-alle-11.40.39.png
END:VEVENT
BEGIN:VEVENT
DTSTART;TZID=Europe/Rome:20170127T181500
DTEND;TZID=Europe/Rome:20170127T200000
DTSTAMP:20260421T021412
CREATED:20170111T084631Z
LAST-MODIFIED:20170111T084631Z
UID:12741-1485540900-1485547200@www.gabriellieditori.it
SUMMARY:RISVEGLIARE L'UMANO. Arendt\, Bonhoeffer\, Hillesum
DESCRIPTION:Spiritualità tra le “righe”\nreligioni\, società\, ambiente\nIncontri con gli autori\, gennaio – giugno 2017 \nper la Giornata della Memoria 2017 \nRISVEGLIARE L’UMANO\nHannah Arendt\, Dietrich Bonhoeffer\, Etty Hillesum\na partire dal libro di Christian Albini\, “Il male”\, Gabrielli editori 2016 \nIncontro con don Roberto Vinco \ncon la partecipazione degli studenti dell’Istituto Calabrese-Levi (San Pietro in Cariano) per le letture tratte da Etty Hillesum \nModera Nicoletta Capozza \nChristian Albini (Crema\, 1973-2017) insegnante e teologo. È stato coordinatore del Centro di spiritualità della diocesi di Crema e collaboratore stabile del mensile Jesus. Il significato universale del vangelo per l’esperienza umana e l’incontro tra persone\, culture e fedi sono al centro dei testi che ha pubblicato in volumi\, riviste e siti internet\, tra cui il suo blog Sperare per tutti. È stato socio fondatore dell’associazione Viandanti. Ci ha lasciato improvvisamente il 9 gennaio 2017. \nDon Roberto Vinco è docente di Filosofia presso lo Studio Teologico San Zeno e l’Istituto Superiore di Scienze Religiose San Pietro Martire di Verona collegati alla Facoltà Teologica del Triveneto. E’ parroco con don Marco Campedelli della Comunità di San Nicolò all’Arena (Verona). \nGli incontri sono realizzati nella sede dei Gabrielli editori in Via Cengia\, 67 – Loc. Cengia di San Pietro in Cariano (Verona). \nPer motivi organizzativi\, è gradita la conferma della partecipazione.
URL:https://www.gabriellieditori.it/event/risvegliare-lumano-arendt-bonhoeffer-hillesum/
LOCATION:Sede dei Gabrielli editori\, Via Cengia\, 67\, San Pietro in Cariano\, 37029\, Italia
CATEGORIES:Incontri
ORGANIZER;CN="Gabrielli editori":MAILTO:info@gabriellieditori.it
END:VEVENT
BEGIN:VEVENT
DTSTART;TZID=Europe/Rome:20161201T181500
DTEND;TZID=Europe/Rome:20161201T200000
DTSTAMP:20260421T021412
CREATED:20161010T131724Z
LAST-MODIFIED:20161115T084453Z
UID:12654-1480616100-1480622400@www.gabriellieditori.it
SUMMARY:La sapienza del cuore. L'anima dell'Oriente
DESCRIPTION:Giovedì 1 dicembre\, ore 18\,15 \nLA SAPIENZA DEL CUORE \nL’anima dell’Oriente dal mondo bizantino a Pavel Florenski \nIncontro con p. Fiorenzo Reati \nIntroduce Fabio Mantovani \nDi fronte alla disgregazione e alle divisioni che sembrano moltiplicarsi di giorno in giorno\, il dialogo tra oriente e occidente è sempre più necessario\, perché sono come i “due polmoni” di un unico respiro\, quello dell’umanità destinata ad essere “una”. \nFIORENZO EMILIO REATI\, frate minore\, ha vissuto per ventanni in Russia a San Pietroburgo.\nHa insegnato filosofia presso il Seminario Cattolico “Maria\, regina degli Apostoli” e l’Accademia russa cristiano-umanistica. Ha insegnato Storia della teologia cattolica contemporanea presso Seminari ortodossi russi. Ha pubblicato in lingua russa opere filosofiche che studiano con metodo comparato la filosofia religiosa occidentale e la filosofia religiosa russa del XX secolo. Con Gabrielli editori ha pubblicato “La sapienza del cuore. Introduzione alla spiritualità orientale”. \nFABIO MANTOVANI è studioso di Teilhard de Chardin sin dagli anni ’60. Saggista e conferenziere\, ha tradotto per l’Editrice Queriniana “Il Fenomeno umano” e “L’Ambiente divino”\, i due capolavori di Teilhard. Con Gabrielli editori ha pubblicato “Teilhard de Chardin. L’orizzonte dell’uomo” e il “Dizionario delle opere di Teilhard de Chardin”. \nPER MOTIVI ORGANIZZATIVI\, E’ GRADITA LA CONFERMA DELLA PARTECIPAZIONE entro mercoledì 30 novembre. CON: MAIL info@gabriellieditori.it; tel. 0457725543 (anche lasciando un messaggio in segreteria telefonica).
URL:https://www.gabriellieditori.it/event/la-sapienza-del-cuore-lanima-delloriente/
LOCATION:Sede dei Gabrielli editori\, Via Cengia\, 67\, San Pietro in Cariano\, 37029\, Italia
CATEGORIES:Incontri
END:VEVENT
BEGIN:VEVENT
DTSTART;TZID=Europe/Rome:20161112T160000
DTEND;TZID=Europe/Rome:20161112T180000
DTSTAMP:20260421T021412
CREATED:20161010T131126Z
LAST-MODIFIED:20161012T132615Z
UID:12651-1478966400-1478973600@www.gabriellieditori.it
SUMMARY:I sentieri spirituali nelle cure palliative\, con Maria Paola Brugnoli
DESCRIPTION:I SENTIERI SPIRITUALI nelle cure palliative \ne i metodi pratici di rilassamento\, auto-ipnosi e meditazione \nIncontro con Maria Paola Brugnoli \nNel ricordo di Angelico Brugnoli\, medico e ricercatore dello Spirito \nUn incontro dedicato a tutti quei percorsi che permettono di approfondire la conoscenza del proprio Sé e della propria vita interiore\, negli insegnamenti delle principali vie religiose. Con una particolare attenzione alle situazioni di disabilità e malattia grave. \nMARIA PAOLA BRUGNOLI\, medico chirurgo\, specialista in anestesia e rianimazione con Perfezionamenti in Anestesia Pediatrica\, Psicogeriatria e Psicogerontologia\, Terapia del\ndolore e cure palliative\, Agopuntura\, Master di II liv. in integrazione tra medicina tradizionale cinese e medicina occidentale\, dottoranda di ricerca in Neuroscienze\, Scienze psicologiche e psichiatriche\, lavora presso il Diaprtimento di Anestesia\, terapia intensiva e terapia antalgica dell’Università di Verona. \nANGELICO BRUGNOLI (Verona 1929 – 2015)\, medico chirurgo\, specialista in psicoterapia e bioclimatologia medica\, collaboratore per 30 anni presso l’Università di Milano. Medico di famiglia e Docente di Ipnosi clinica e Psicoterapia.
URL:https://www.gabriellieditori.it/event/i-sentieri-spirituali-nelle-cure-palliative/
LOCATION:Sede dei Gabrielli editori\, Via Cengia\, 67\, San Pietro in Cariano\, 37029\, Italia
CATEGORIES:Incontri
END:VEVENT
BEGIN:VEVENT
DTSTART;TZID=Europe/Rome:20161028T181500
DTEND;TZID=Europe/Rome:20161028T200000
DTSTAMP:20260421T021412
CREATED:20161010T101052Z
LAST-MODIFIED:20161021T093907Z
UID:12649-1477678500-1477684800@www.gabriellieditori.it
SUMMARY:Misericordia\, con Adriana Valerio e Cristina Simonelli
DESCRIPTION:Nell’ambito del ciclo dei primi tre incontri ottobre – dicembre 2016 \nSpiritualità tra le “righe”\nSocietà\, religioni\, ambiente. Incontri con gli autori \nMISERICORDIA\nSguardi di donne \nIncontro con Adriana Valerio e Cristina Simonelli \nModera Nicoletta Capozza \nIl primo di una serie di incontri (http://www.gabriellieditori.it/spiritualita-tra-le-righe/) dove alcuni temi\, tra i più sentiti\, vengono affrontati secondo il metodo dell’ “incrocio” tra spiritualità e vita\, con un approccio inclusivo dove tutti possano sentirsi accolti. \nPiù riflessioni intorno a una diversa immagine di Dio (padre/madre) fino all’attualità con le ultime scelte di papa Francesco sul diaconato femminile\, nel quadro di un primo bilancio sull’anno giubilare.\nUn’occasione di bilancio e di confronto sul tema della Misericordia\, con uno sguardo tutto femminile. Saremo aiutati da Adriana Valerio\, docente di Storia del Cristianesimo e delle Chiese alla Federico II di Napoli\, responsabile del progetto internazionale e interconfessionale “La Bibbia e le donne”\, e da Cristina Simonelli\, presidente del Coordinamento Teologhe Italiana e docente di teologia patristica a Verona e presso la Facoltà Teologica dell’Italia Settentrionale.\nCome messo in risalto dal libro della Valerio Misericordia. Nel cuore della riconciliazione\, il cosiddetto Anno santo\, tempo di giustizia e di misericordia\, richiama la chiesa e tutta l’umanità a un rinnovato impegno nei confronti del mondo\, per fedeltà al messaggio rivoluzionario di Gesù che\, con il suo atteggiamento e le sue parabole\, ha consegnato un nuovo volto di Dio\, Padre-Materno\, liberato dalle immagini di un Giudice tiranno e impietoso. E\, nello stesso tempo\, il Giubileo può diventare un’occasione per riscoprire il volto dell’umanità che\, attraverso gesti di attenta com-partecipazione\, è in grado di mettere in campo dinamiche di riconciliazione e di pace.
URL:https://www.gabriellieditori.it/event/misericordia-con-adriana-valerio-e-cristina-simonelli/
LOCATION:Sede dei Gabrielli editori\, Via Cengia\, 67\, San Pietro in Cariano\, 37029\, Italia
CATEGORIES:Incontri
END:VEVENT
END:VCALENDAR