BEGIN:VCALENDAR
VERSION:2.0
PRODID:-//Gabrielli editori | Verona - ECPv6.15.20//NONSGML v1.0//EN
CALSCALE:GREGORIAN
METHOD:PUBLISH
X-ORIGINAL-URL:https://www.gabriellieditori.it
X-WR-CALDESC:Eventi per Gabrielli editori | Verona
REFRESH-INTERVAL;VALUE=DURATION:PT1H
X-Robots-Tag:noindex
X-PUBLISHED-TTL:PT1H
BEGIN:VTIMEZONE
TZID:Europe/Rome
BEGIN:DAYLIGHT
TZOFFSETFROM:+0100
TZOFFSETTO:+0200
TZNAME:CEST
DTSTART:20160327T010000
END:DAYLIGHT
BEGIN:STANDARD
TZOFFSETFROM:+0200
TZOFFSETTO:+0100
TZNAME:CET
DTSTART:20161030T010000
END:STANDARD
BEGIN:DAYLIGHT
TZOFFSETFROM:+0100
TZOFFSETTO:+0200
TZNAME:CEST
DTSTART:20170326T010000
END:DAYLIGHT
BEGIN:STANDARD
TZOFFSETFROM:+0200
TZOFFSETTO:+0100
TZNAME:CET
DTSTART:20171029T010000
END:STANDARD
BEGIN:DAYLIGHT
TZOFFSETFROM:+0100
TZOFFSETTO:+0200
TZNAME:CEST
DTSTART:20180325T010000
END:DAYLIGHT
BEGIN:STANDARD
TZOFFSETFROM:+0200
TZOFFSETTO:+0100
TZNAME:CET
DTSTART:20181028T010000
END:STANDARD
END:VTIMEZONE
BEGIN:VEVENT
DTSTART;TZID=Europe/Rome:20170308T173000
DTEND;TZID=Europe/Rome:20170308T190000
DTSTAMP:20260420T054356
CREATED:20170220T104859Z
LAST-MODIFIED:20170220T110555Z
UID:12780-1488994200-1488999600@www.gabriellieditori.it
SUMMARY:TESTIMONI DELLA FEDE\, presentazione in Gregoriana
DESCRIPTION:PONTIFICIA UNIVERSITA’ GREGORIANA \npresentazione del volume\n“TESTIMONI DELLA FEDE. Esperienze personali e collettive dei cattolici in Europa centro-orientale sotto il regime comunista”\na cura di Jan Mikrut\, per la collana: Storia della Chiesa in Europa centro-orientale \nProgramma:\nSaluto del Magnifico Rettore della Pontificia Università Gregoriana\, P. Nuno da Silva Gonçalves S.J. \nIntervengono:\nS. Eminenza il Cardinale Angelo Amato SDB\, Prefetto della Congregazione delle Cause dei Santi\nS. Eccellenza Mons. Tomo Vukšić\, Vescovo militare in Bosnia ed Erzegovina\nProf. Jan Mikrut\, Pontificia Università Gregoriana \nPartecipazione musicale del: Coro della Chiesa di San Girolamo dei Croati di Roma \nModera: P. Marek Inglot S.J.\, Decano della Facoltà di Storia e Beni Culturali della Chiesa \nPer informazioni: Segreteria della Facoltà di Storia e Beni Culturali della Chiesa Tel. 06 6701.5107 • E-mail: storiaebeni@unigre.it • www.unigre.it/eventi • Piazza della Pilotta\, 4 – 00187 Roma
URL:https://www.gabriellieditori.it/event/testimoni-della-fede-presentazione-in-gregoriana/
LOCATION:Pontificia Università Gregoriana\, Piazza della Pilotta\, 4\, Roma\, 00187\, Italia
CATEGORIES:Incontri
ATTACH;FMTTYPE=image/png:https://www.gabriellieditori.it/wp-content/uploads/2017/02/Schermata-2017-02-20-alle-11.40.39.png
END:VEVENT
END:VCALENDAR