BEGIN:VCALENDAR
VERSION:2.0
PRODID:-//Gabrielli editori | Verona - ECPv6.15.20//NONSGML v1.0//EN
CALSCALE:GREGORIAN
METHOD:PUBLISH
X-WR-CALNAME:Gabrielli editori | Verona
X-ORIGINAL-URL:https://www.gabriellieditori.it
X-WR-CALDESC:Eventi per Gabrielli editori | Verona
REFRESH-INTERVAL;VALUE=DURATION:PT1H
X-Robots-Tag:noindex
X-PUBLISHED-TTL:PT1H
BEGIN:VTIMEZONE
TZID:Europe/Rome
BEGIN:DAYLIGHT
TZOFFSETFROM:+0100
TZOFFSETTO:+0200
TZNAME:CEST
DTSTART:20150329T010000
END:DAYLIGHT
BEGIN:STANDARD
TZOFFSETFROM:+0200
TZOFFSETTO:+0100
TZNAME:CET
DTSTART:20151025T010000
END:STANDARD
BEGIN:DAYLIGHT
TZOFFSETFROM:+0100
TZOFFSETTO:+0200
TZNAME:CEST
DTSTART:20160327T010000
END:DAYLIGHT
BEGIN:STANDARD
TZOFFSETFROM:+0200
TZOFFSETTO:+0100
TZNAME:CET
DTSTART:20161030T010000
END:STANDARD
BEGIN:DAYLIGHT
TZOFFSETFROM:+0100
TZOFFSETTO:+0200
TZNAME:CEST
DTSTART:20170326T010000
END:DAYLIGHT
BEGIN:STANDARD
TZOFFSETFROM:+0200
TZOFFSETTO:+0100
TZNAME:CET
DTSTART:20171029T010000
END:STANDARD
BEGIN:DAYLIGHT
TZOFFSETFROM:+0100
TZOFFSETTO:+0200
TZNAME:CEST
DTSTART:20180325T010000
END:DAYLIGHT
BEGIN:STANDARD
TZOFFSETFROM:+0200
TZOFFSETTO:+0100
TZNAME:CET
DTSTART:20181028T010000
END:STANDARD
BEGIN:DAYLIGHT
TZOFFSETFROM:+0100
TZOFFSETTO:+0200
TZNAME:CEST
DTSTART:20190331T010000
END:DAYLIGHT
BEGIN:STANDARD
TZOFFSETFROM:+0200
TZOFFSETTO:+0100
TZNAME:CET
DTSTART:20191027T010000
END:STANDARD
END:VTIMEZONE
BEGIN:VEVENT
DTSTART;TZID=Europe/Rome:20181004T150000
DTEND;TZID=Europe/Rome:20181004T170000
DTSTAMP:20260420T054234
CREATED:20180917T152316Z
LAST-MODIFIED:20180917T152316Z
UID:14548-1538665200-1538672400@www.gabriellieditori.it
SUMMARY:Giovane cattolica donna. Perché voglio diventare prete
DESCRIPTION:JACQUELINE STRAUB\nGiovane cattolica donna. Perché voglio diventare prete \nIl libro della giovane teologa tedesca sarà presentato a Roma il 4 ottobre 2018 nell’ambito dell’evento organizzato dalla Women’s Ordination Conference in parallelo al Sinodo dei Vescovi \nJacqueline Straub ha un sogno che coltiva da quando aveva 15 anni: diventare prete. Cattolica convinta non ha nessuna intenzione di lasciare la Chiesa. 27enne proveniente dalla Germania (Baden-Württemberg)\, ha studiato teologia\, prima a Friburgo e poi in Svizzera a Lucerna (dove ha conseguito il master). Tramite la sua testimonianza e il racconto del suo percorso di vita il libro (“Giovane cattolica donna. Perché voglio diventare prete”\, Prefazione di Maria Immacolata Macioti\, pp. 88\, € 13\, Gabrielli editori 2018) spiega i motivi della sua decisione e della sua battaglia che si collega al movimento globale di rinnovamento della Chiesa. L’autrice ne parlerà a Roma il 4 ottobre durante l’evento di rilievo internazionale organizzato dalla Women’s Ordination Conference nella Casa di Santa Maria delle Fornaci\, a 5 minuti di cammino dall’aula in cui nello stesso giorno inizierà il Sinodo dei Vescovi sul tema “I giovani\, la fede e il discernimento vocazionale” \nJacqueline Straub nata nel 1990 a Sigmaringen nel sud della Germania (Baden-Wüttemberg)\, ha studiato teologia cattolica dal 2010 al 2016 a Friburgo in Brisgovia (Germania) e a Friburgo (Svizzera)\, per concludere con un master e il massimo dei voti all’Università di Lucerna. Sebbene non provenga da una famiglia religiosa in senso stretto\, ha trovato la via della fede in Dio da giovane grazie ad alcuni amici. Da allora sente la vocazione al sacerdozio nella Chiesa cattolica romana. Dal 2011 Jacqueline ha reso pubblica la sua vocazione e ne parla regolarmente nei media\, ospite in diversi talk show televisivi di lingua tedesca. Il suo impegno è soprattutto a favore di una maggiore parità tra uomini e donne nella Chiesa e dei giovani per un approccio più moderno alla fede. Attualmente vive in Svizzera e lavora come redattrice televisiva e come giornalista per varie riviste. È anche autrice di libri e docente. È conosciuta\, infine\, per aver preso parte al film documentario della televisione ZDF “Jesus und die verschwundenen Frauen”(“Gesù e le donne scomparse”)\, del 2013.
URL:https://www.gabriellieditori.it/event/giovane-cattolica-donna-perche-voglio-diventare-prete/
LOCATION:Casa Santa Maria alle Fornaci\, Piazza Santa Maria alle Fornaci\, 27\, Roma\, 00165\, Italia
CATEGORIES:Incontri
ATTACH;FMTTYPE=image/jpeg:https://www.gabriellieditori.it/wp-content/uploads/2018/04/Giovane-cattolica-donna2.jpg
END:VEVENT
BEGIN:VEVENT
DTSTART;TZID=Europe/Rome:20171124T180000
DTEND;TZID=Europe/Rome:20171124T200000
DTSTAMP:20260420T054234
CREATED:20171114T091216Z
LAST-MODIFIED:20171114T091304Z
UID:13335-1511546400-1511553600@www.gabriellieditori.it
SUMMARY:Gianpaolo Trevisi - L'amore che non è
DESCRIPTION:Giornata Mondiale contro la Violenza sulle Donne \nIncontro con – GIANPAOLO TREVISI –\npresentazione del suo libro \n– L’AMORE CHE NON E’ –\nCi saranno giorni nuovi di mille colori diversi\nGabrielli editori 2017 \nAula Magna Istituto L. Calabrese – P. Levi (San Pietro in Cariano)\ncon la partecipazione delle classi dell’Istituto  \nIl poliziotto-narratore Gianpaolo Trevisi\, Direttore della Scuola Allievi della Polizia di Stato di Peschiera del Garda\, con 13 storie raccolte nel suo nuovo libro “L’amore che non è” affronta con la consueta sensibilità il tema della violenza di genere. \nNon nuovo alla scrittura di piccoli grandi racconti contenenti frammenti di vita\, Trevisi narra esperienze tragiche e a volte fatali\, esistenze interrotte o sfregiate e lo ha fatto con la voce e gli occhi delle donne. \nINGRESSO LIBERO \nil LIBRO: http://www.gabriellieditori.it/shop/narrazioni/narrativa-pubblicazioni/lamore-che-non-e/
URL:https://www.gabriellieditori.it/event/gianpaolo-trevisi-lamore-che-non-e/
LOCATION:Istituto L. Calabresi – P. Levi\, Via Mara\, 6\, San Pietro in Cariano (VR)\, 37029\, Italia
CATEGORIES:Incontri
ATTACH;FMTTYPE=image/jpeg:https://www.gabriellieditori.it/wp-content/uploads/2017/11/slid-FB-trevisi.jpg
END:VEVENT
BEGIN:VEVENT
DTSTART;TZID=Europe/Rome:20161028T181500
DTEND;TZID=Europe/Rome:20161028T200000
DTSTAMP:20260420T054234
CREATED:20161010T101052Z
LAST-MODIFIED:20161021T093907Z
UID:12649-1477678500-1477684800@www.gabriellieditori.it
SUMMARY:Misericordia\, con Adriana Valerio e Cristina Simonelli
DESCRIPTION:Nell’ambito del ciclo dei primi tre incontri ottobre – dicembre 2016 \nSpiritualità tra le “righe”\nSocietà\, religioni\, ambiente. Incontri con gli autori \nMISERICORDIA\nSguardi di donne \nIncontro con Adriana Valerio e Cristina Simonelli \nModera Nicoletta Capozza \nIl primo di una serie di incontri (http://www.gabriellieditori.it/spiritualita-tra-le-righe/) dove alcuni temi\, tra i più sentiti\, vengono affrontati secondo il metodo dell’ “incrocio” tra spiritualità e vita\, con un approccio inclusivo dove tutti possano sentirsi accolti. \nPiù riflessioni intorno a una diversa immagine di Dio (padre/madre) fino all’attualità con le ultime scelte di papa Francesco sul diaconato femminile\, nel quadro di un primo bilancio sull’anno giubilare.\nUn’occasione di bilancio e di confronto sul tema della Misericordia\, con uno sguardo tutto femminile. Saremo aiutati da Adriana Valerio\, docente di Storia del Cristianesimo e delle Chiese alla Federico II di Napoli\, responsabile del progetto internazionale e interconfessionale “La Bibbia e le donne”\, e da Cristina Simonelli\, presidente del Coordinamento Teologhe Italiana e docente di teologia patristica a Verona e presso la Facoltà Teologica dell’Italia Settentrionale.\nCome messo in risalto dal libro della Valerio Misericordia. Nel cuore della riconciliazione\, il cosiddetto Anno santo\, tempo di giustizia e di misericordia\, richiama la chiesa e tutta l’umanità a un rinnovato impegno nei confronti del mondo\, per fedeltà al messaggio rivoluzionario di Gesù che\, con il suo atteggiamento e le sue parabole\, ha consegnato un nuovo volto di Dio\, Padre-Materno\, liberato dalle immagini di un Giudice tiranno e impietoso. E\, nello stesso tempo\, il Giubileo può diventare un’occasione per riscoprire il volto dell’umanità che\, attraverso gesti di attenta com-partecipazione\, è in grado di mettere in campo dinamiche di riconciliazione e di pace.
URL:https://www.gabriellieditori.it/event/misericordia-con-adriana-valerio-e-cristina-simonelli/
LOCATION:Sede dei Gabrielli editori\, Via Cengia\, 67\, San Pietro in Cariano\, 37029\, Italia
CATEGORIES:Incontri
END:VEVENT
END:VCALENDAR