BEGIN:VCALENDAR
VERSION:2.0
PRODID:-//Gabrielli editori | Verona - ECPv6.15.20//NONSGML v1.0//EN
CALSCALE:GREGORIAN
METHOD:PUBLISH
X-ORIGINAL-URL:https://www.gabriellieditori.it
X-WR-CALDESC:Eventi per Gabrielli editori | Verona
REFRESH-INTERVAL;VALUE=DURATION:PT1H
X-Robots-Tag:noindex
X-PUBLISHED-TTL:PT1H
BEGIN:VTIMEZONE
TZID:Europe/Rome
BEGIN:DAYLIGHT
TZOFFSETFROM:+0100
TZOFFSETTO:+0200
TZNAME:CEST
DTSTART:20180325T010000
END:DAYLIGHT
BEGIN:STANDARD
TZOFFSETFROM:+0200
TZOFFSETTO:+0100
TZNAME:CET
DTSTART:20181028T010000
END:STANDARD
BEGIN:DAYLIGHT
TZOFFSETFROM:+0100
TZOFFSETTO:+0200
TZNAME:CEST
DTSTART:20190331T010000
END:DAYLIGHT
BEGIN:STANDARD
TZOFFSETFROM:+0200
TZOFFSETTO:+0100
TZNAME:CET
DTSTART:20191027T010000
END:STANDARD
BEGIN:DAYLIGHT
TZOFFSETFROM:+0100
TZOFFSETTO:+0200
TZNAME:CEST
DTSTART:20200329T010000
END:DAYLIGHT
BEGIN:STANDARD
TZOFFSETFROM:+0200
TZOFFSETTO:+0100
TZNAME:CET
DTSTART:20201025T010000
END:STANDARD
END:VTIMEZONE
BEGIN:VEVENT
DTSTART;TZID=Europe/Rome:20190518T110000
DTEND;TZID=Europe/Rome:20190518T123000
DTSTAMP:20260420T062229
CREATED:20190423T094429Z
LAST-MODIFIED:20190513T131749Z
UID:14994-1558177200-1558182600@www.gabriellieditori.it
SUMMARY:Incontro con Paolo Bertezzolo e don Luigi Adami a Verona
DESCRIPTION:Presentazione del nuovo libro di \nPaolo Bertezzolo e Luigi Adami\nLA FEDE NUDA\nDialogo sul credere e il dubitare\nGabrielli editori 2019 \nDialoga con gli autori GUARIENTE GUARIENTI\, Avvocato\nLa “fede nuda” è una fede che non ha paura di confrontarsi con il dubbio\, nella convinzione che il dubbio può favorire una purificazione della fede\, può liberare i suoi contenuti da rappresentazioni infantili\, può preservare il mistero di Dio dal pericolo di diventare un “idolo vano”. In questa “pensosità” credente\, don Adami non si sente del tutto lontano dal “fratello ateo\, nobilmente pensoso” di Turoldo\, perché la vera linea di demarcazione non è tra chi si dice credente e chi si confessa ateo\, ma tra “chi cerca continuamente” e chi non cerca più.
URL:https://www.gabriellieditori.it/event/incontro-con-paolo-bertezzolo-e-don-luigi-adami-a-verona/
LOCATION:Sala Farinati – Biblioteca Civica di Verona\, Via Cappello\, 43\, Verona\, 37121\, Italia
CATEGORIES:Incontri
END:VEVENT
BEGIN:VEVENT
DTSTART;TZID=Europe/Rome:20190516T203000
DTEND;TZID=Europe/Rome:20190516T223000
DTSTAMP:20260420T062229
CREATED:20190423T090029Z
LAST-MODIFIED:20190423T090029Z
UID:14984-1558038600-1558045800@www.gabriellieditori.it
SUMMARY:Incontro con Roberto Mancini al Festival Biblico
DESCRIPTION:Nell’ambito del Festival Biblico 2019\nRIGENERARE LA COMUNITÀ CIVILE\nQuale politica per una società ad altezza di umanità?\ncon Roberto Mancini (professore ordinario di filosofia teoretica Università di Macerata)\nmodera la giornalista Margherita Grotto \nIntermezzo musicale dell’Ensamble di chitarre del Liceo Musicale “Antonio Pigafetta” di Vicenza\nGiustizia\, servizio\, vita comune: senso ed efficacia di un impegno nella polis. Roberto Mancini\, in modo semplice e profondo\, presenta una riflessione sulla politica oggi. Giustizia\, servizio\, vita comune secondo la Bibbia: uno sguardo altro per spezzare le suggestioni e poter trasformare la realtà recuperando l’efficacia della responsabilità per una comunità civile più umana. “La politica rinasce lì dove riemerge un “popolo” che sia disposto a battersi\, nelle forme della democrazia e della nonviolenza\, per una vita comune degna.”(R.Mancini) – vedi anche il nuovo libro di Roberto Mancini: UTOPIA. Dall’ideologia del cambiamento all’esperienza della liberazione\, Gabrielli editori 2019\, Collana ESH \nIn collaborazione con: NOI Associazione di San Pietro in Gu
URL:https://www.gabriellieditori.it/event/incontro-con-roberto-mancini-al-festival-biblico/
LOCATION:Teatro Oratorio San Giovanni Bosco\, Piazza Prandina\, 9\, San Pietro in Gu (PD)\, 35010\, Italia
CATEGORIES:Incontri
ORGANIZER;CN="Festival Biblico":MAILTO:info@festivalbiblico.it
END:VEVENT
BEGIN:VEVENT
DTSTART;TZID=Europe/Rome:20190508T173000
DTEND;TZID=Europe/Rome:20190508T193000
DTSTAMP:20260420T062229
CREATED:20190423T080340Z
LAST-MODIFIED:20190423T080340Z
UID:14971-1557336600-1557343800@www.gabriellieditori.it
SUMMARY:Incontro con il filosofo Roberto Mancini
DESCRIPTION:Biblioteca Diocesana “Pier Matteo Petrucci” di Jesi (AN) invita alla \npresentazione del nuovo libro di\nROBERTO MANCINI\nUTOPIA\nDall’ideologia del cambiamento all’esperienza della liberazione\nGabrielli editori 2019 – Collana ESH. 6 – La collana ESH si propone il compito di fare luce su parole e pensieri del cristianesimo\, facendole passare attraverso il fuoco\, in ebraico Esh\, di una loro rilettura che\, tenendo conto delle diverse prospettive dell’oggi\, sappia anche rendere la pienezza della loro storia e tradizione\, del loro presente e del loro futuro.  \n«L’utopia è uno spirito che dà profondità alla nostra prospettiva sul tempo storico.\nÈ lo spirito che consente di guardare verso una trasfigurazione della realtà\, per adesso non data e non visibile\,\nche nondimeno preme per attuarsi e potrà effettivamente avere il suo luogo nella storia.» \nROBERTO MANCINI è professore ordinario di Filosofia Teoretica all’Università di Macerata. \nIn collaborazione con “Commissione Pastorale Sociale e del Lavoro” e “Centro Culturale I Care”
URL:https://www.gabriellieditori.it/event/incontro-con-il-filosofo-roberto-mancini/
LOCATION:Biblioteca “Pier Matteo Petrucci” – Palazzo Bisaccioni\, Piazza Colocci\, 4\, Jesi\, 60035\, Italia
CATEGORIES:Incontri
END:VEVENT
BEGIN:VEVENT
DTSTART;TZID=Europe/Rome:20190419T080000
DTEND;TZID=Europe/Rome:20190420T123000
DTSTAMP:20260420T062229
CREATED:20190404T103524Z
LAST-MODIFIED:20190404T103524Z
UID:14942-1555660800-1555763400@www.gabriellieditori.it
SUMMARY:PASQUA 2019 - Incontro con CARMINE DI SANTE
DESCRIPTION:Nell’ambito del Triduo Pasquale 2019 organizzato dal Monastero degli Stimmatini di Sezano\n\n\n\ndue appuntamenti per meditare con CARMINE DI SANTE\n\n\n\nVenerdì 19 aprile⋅09:15 – 12:30\n“I racconti di Passione”\n\n\n\n\n\nSabato 20 aprile 9:15 – 12:30\nIl significato della Risurrezione\n\nnell’occasione sarà disponibile il nuovo libro di Carmine Di Sante\, DENTRO LA BIBBIA. La teologia alternativa di Armido Rizzi \n\nLink al programma del Triduo: http://stimmatinisezano.blogspot.com/ \n\n\nDentro la Bibbia La teologia alternativa di Armido Rizzi – Carmine di Sante \n\n\n\n\nCarmine Di Sante è nato a Bisenti (TE) nel 1941\, ha studiato teologia all’Istituto Teologico dei Frati Minori di Assisi\, si è specializzato in Scienze liturgiche al Pontificio Istituto S. Anselmo di Roma\, si è laureato in Psicologia all’Università «La Sapienza» di Roma e ha lavorato per quasi vent’anni al SIDIC (Service International de Documentation Judéo-Chrétienne) di Roma. Ha pubblicato molti saggi\, tra i quali La preghiera d’Israele. Alle origini della liturgia cristiana\, Marietti 20093 (tradotto in inglese\, francese\, olandese\, ceco e portoghese); Parola e terra. Per una teologia dell’ebraismo\, Cittadella 2011; Lo straniero nella Bibbia. Ospitalità e dono\, San Paolo 2012; La passione di Gesù. Nonviolenza e perdono\, San Paolo 2013; Dio e i suoi volti. Per una nuova teologia biblica\, San Paolo 2014; Il perdono nella Bibbia\, nella teologia\, nella prassi ecclesiale\, Queriniana 2016; Dentro la Bibbia. La teologia alternativa di Armido Rizzi\, Gabrielli editori 2018.
URL:https://www.gabriellieditori.it/event/pasqua-2019-incontro-con-carmine-di-sante/
LOCATION:Monastero degli Stimmatini di Sezano\, Via Mezzomonte\, 28\, Verona\, 37142\, Italia
CATEGORIES:Incontri
END:VEVENT
END:VCALENDAR