BEGIN:VCALENDAR
VERSION:2.0
PRODID:-//Gabrielli editori | Verona - ECPv6.15.20//NONSGML v1.0//EN
CALSCALE:GREGORIAN
METHOD:PUBLISH
X-WR-CALNAME:Gabrielli editori | Verona
X-ORIGINAL-URL:https://www.gabriellieditori.it
X-WR-CALDESC:Eventi per Gabrielli editori | Verona
REFRESH-INTERVAL;VALUE=DURATION:PT1H
X-Robots-Tag:noindex
X-PUBLISHED-TTL:PT1H
BEGIN:VTIMEZONE
TZID:Europe/Rome
BEGIN:DAYLIGHT
TZOFFSETFROM:+0100
TZOFFSETTO:+0200
TZNAME:CEST
DTSTART:20160327T010000
END:DAYLIGHT
BEGIN:STANDARD
TZOFFSETFROM:+0200
TZOFFSETTO:+0100
TZNAME:CET
DTSTART:20161030T010000
END:STANDARD
BEGIN:DAYLIGHT
TZOFFSETFROM:+0100
TZOFFSETTO:+0200
TZNAME:CEST
DTSTART:20170326T010000
END:DAYLIGHT
BEGIN:STANDARD
TZOFFSETFROM:+0200
TZOFFSETTO:+0100
TZNAME:CET
DTSTART:20171029T010000
END:STANDARD
BEGIN:DAYLIGHT
TZOFFSETFROM:+0100
TZOFFSETTO:+0200
TZNAME:CEST
DTSTART:20180325T010000
END:DAYLIGHT
BEGIN:STANDARD
TZOFFSETFROM:+0200
TZOFFSETTO:+0100
TZNAME:CET
DTSTART:20181028T010000
END:STANDARD
BEGIN:DAYLIGHT
TZOFFSETFROM:+0100
TZOFFSETTO:+0200
TZNAME:CEST
DTSTART:20190331T010000
END:DAYLIGHT
BEGIN:STANDARD
TZOFFSETFROM:+0200
TZOFFSETTO:+0100
TZNAME:CET
DTSTART:20191027T010000
END:STANDARD
BEGIN:DAYLIGHT
TZOFFSETFROM:+0100
TZOFFSETTO:+0200
TZNAME:CEST
DTSTART:20200329T010000
END:DAYLIGHT
BEGIN:STANDARD
TZOFFSETFROM:+0200
TZOFFSETTO:+0100
TZNAME:CET
DTSTART:20201025T010000
END:STANDARD
END:VTIMEZONE
BEGIN:VEVENT
DTSTART;TZID=Europe/Rome:20190529T110000
DTEND;TZID=Europe/Rome:20190529T123000
DTSTAMP:20260420T081358
CREATED:20190430T135840Z
LAST-MODIFIED:20190430T135927Z
UID:15001-1559127600-1559133000@www.gabriellieditori.it
SUMMARY:Presentazione del nuovo libro di Claudio Capitini\, "Incomparabili. Voci fuori dal coro. Teatro\, musica e un passo di danza"
DESCRIPTION:Dopo E LUCEVAN LE STELLE. L’ARENA DI VERONA RACCONTATA DAI PROTAGONISTI\nil giornalista Claudio Capitini presenta il suo nuovo libro “Incomparabili. Voci fuori dal coro. Teatro\, musica e un passo di danza” Gabrielli editori\nnella Conferenza Stampa di mercoledì 29 maggio ore 11 presso la prestigiosa Sala Maffeiana del Teatro Filarmonico di Verona\nRoberto Benigni\, Monica Vitti\, Gigi Proietti\, Nino Manfredi\, Marcello Mastroianni\, Florinda Bolkan\, Ennio Morricone\, Carlo Lizzani\, Roland Petit\, Marcel Marceau\, Carolyn Carson... Sono solo alcuni dei nomi a cui sono dedicati gli oltre 80 ritratti degli “incomparabili” interpreti del teatro\, della musica e della danza. Il giornalista Claudio Capitini li ha incontrati uno ad uno scoprendone la moralità del loro carattere e la capacità di lasciare il segno nella grande umiltà del loro vivere lo spettacolo\, pur nella differenza di stili\, linguaggi\, epoche e poetiche\, nella eterogeneità delle provenienze e delle storie. \nClaudio Capitini (1947) è nato a Verona\, dove vive e opera da giornalista. Laureato in Lettere e Filosofia presso l’Università di Padova con tesi in Storia del Teatro\, nello stesso periodo ha frequentato il Piccolo Teatro di Milano. E’ critico teatrale e autore di programmi radio-televisivi. Consulente aziendale nell’area Comunicazione multimediale e Direct Marketing\, è formatore ed esperto di public speaking. E’ stato Capo Ufficio Stampa presso l’Ente Lirico Arena di Verona. Con Marsilio ha pubblicato nel 2014 “Le voci del Teatro. Interviste ai grandi della scena”; nel 2017 con Gabrielli editori “E lucevan le stelle. L’Arena di Verona raccontata dai protagonisti”.
URL:https://www.gabriellieditori.it/event/presentazione-del-nuovo-libro-di-claudio-capitini-incomparabili-voci-fuori-dal-coro-teatro-musica-e-un-passo-di-danza/
LOCATION:Sala Maffeiana\, Via Roma\, 1/G\, Verona\, 37121\, Italia
CATEGORIES:Incontri
END:VEVENT
BEGIN:VEVENT
DTSTART;TZID=Europe/Rome:20170629T180000
DTEND;TZID=Europe/Rome:20170629T190000
DTSTAMP:20260420T081358
CREATED:20170601T154455Z
LAST-MODIFIED:20170601T154455Z
UID:13004-1498759200-1498762800@www.gabriellieditori.it
SUMMARY:E lucevan le stelle\, Presentazione alla Feltrinelli di Verona
DESCRIPTION:Presentazione del volume \nE LUCEVAN LE STELLE\nl’Arena di Verona raccontata dai protagonisti\ndi Claudio Capitini – Gabrielli editori \nBéjart\, Bocelli\, Bolle\, Carreras\, Di Stefano\, Domingo\, Fracci\, Gasdia\, Maazel\, Muti\, Nucci\, Nureyev\, Olivero\, Pavarotti\, Pretre\, Ricciarelli\, Terabust\, Vasiliev\, Zeffirelli… Sono solo alcuni degli 80 straordinari protagonisti del festival dell’Arena di Verona che si raccontano in questo libro come in un itinerario affascinante e irripetibile lungo la storia del teatro all’aperto più grande del mondo. I miti\, insieme ai talenti dell’oggi\, svelano in queste pagine e in un unico sguardo i tratti della loro umanità e della loro arte. In quarant’anni di attività giornalistica Claudio Capitini ha incontrato gli artisti uno ad uno e ha colto la peculiarità della loro anima\, in dialoghi sorprendenti \nDialoga con l’Autore\nil maestro Nicola Guerini direttore d’orchestra e Presidente del Fondo Peter Maag\n\nPartecipano gli attori\nAndrea De Manincor e Sabrina Modenini \nCLAUDIO CAPITINI (1947) è nato a Verona\, dove vive e opera da giornalista. Laureato in Lettere e Filosofia presso l’Università di Padova con tesi in Storia del Teatro\, nello stesso periodo ha frequentato il Piccolo Teatro di Milano. E’ critico teatrale e autore di programmi radio-televisivi. Consulente aziendale nell’area Comunicazione multimediale e Direct Marketing\, è formatore ed esperto di public speaking. In questo ambito è autore di un saggio-manuale sull’efficacia della comunicazione tramite le tecniche del teatro titolato “Il ComunicatTore”. E’ stato Capo Ufficio Stampa presso l’Ente Lirico Arena di Verona. Con Marsilio ha pubblicato nel 2014 “Le voci del Teatro. Interviste ai grandi della scena”.
URL:https://www.gabriellieditori.it/event/e-lucevan-le-stelle-presentazione-alla-feltrinelli-di-verona/
LOCATION:laFeltrinelli Libri e Musica\, Via IV Spade\, 2\, Verona\, 37121\, Italia
CATEGORIES:Incontri
END:VEVENT
END:VCALENDAR